BEGIN:VCALENDAR
VERSION:2.0
PRODID:-//pretix//pretix.eu//
BEGIN:VTIMEZONE
TZID:Europe/Berlin
BEGIN:STANDARD
DTSTART:20001029T040000
RRULE:FREQ=YEARLY;BYDAY=-1SU;BYMONTH=10
TZNAME:CET
TZOFFSETFROM:+0200
TZOFFSETTO:+0100
END:STANDARD
BEGIN:DAYLIGHT
DTSTART:20000326T030000
RRULE:FREQ=YEARLY;BYDAY=-1SU;BYMONTH=3
TZNAME:CEST
TZOFFSETFROM:+0100
TZOFFSETTO:+0200
END:DAYLIGHT
END:VTIMEZONE
BEGIN:VEVENT
UID:pretix-wohnglueck-suedpfalz-0@event.wohnglueck.de
DTSTART;TZID=Europe/Berlin:20260312T090000
DTEND;TZID=Europe/Berlin:20260312T120000
DESCRIPTION:Tickets: https://event.wohnglueck.de/suedpfalz/\nEinlass: 12.03
 .2026 08:30\nVeranstalter: Wohnglück.de
DTSTAMP:20260421T102427Z
LOCATION:Waffenstraße 17\, 76829 Landau in der Pfalz
SUMMARY:Makler Meetup Südpfalz
END:VEVENT
END:VCALENDAR
